BEGIN:VCALENDAR
VERSION:2.0
PRODID:Carnaval 2025
X-WR-CALNAME:Carnaval 2025
X-WR-TIMEZONE:Europe/Lisbon
X-PUBLISHED-TTL:P1W
BEGIN:VTIMEZONE
TZID:Europe/Lisbon
X-LIC-LOCATION:Europe/Lisbon
END:VTIMEZONE
BEGIN:VEVENT
UID:69e88dd2eed0a
DTSTART;VALUE=DATE:20250228
SEQUENCE:0
TRANSP:OPAQUE
DTEND;VALUE=DATE:20250301
SUMMARY:Carnaval 2025
CLASS:PUBLIC
DESCRIPTION:Carnaval 2025
X-MICROSOFT-CDO-ALLDAYEVENT:TRUE
DTSTAMP:20260422T085858Z
END:VEVENT
END:VCALENDAR